BEGIN:VCALENDAR
VERSION:2.0
PRODID:-//Petites Pousses - ECPv6.15.17.1//NONSGML v1.0//EN
CALSCALE:GREGORIAN
METHOD:PUBLISH
X-ORIGINAL-URL:https://www.petites-pousses.fr
X-WR-CALDESC:Évènements pour Petites Pousses
REFRESH-INTERVAL;VALUE=DURATION:PT1H
X-Robots-Tag:noindex
X-PUBLISHED-TTL:PT1H
BEGIN:VTIMEZONE
TZID:Europe/Paris
BEGIN:DAYLIGHT
TZOFFSETFROM:+0100
TZOFFSETTO:+0200
TZNAME:CEST
DTSTART:20200329T010000
END:DAYLIGHT
BEGIN:STANDARD
TZOFFSETFROM:+0200
TZOFFSETTO:+0100
TZNAME:CET
DTSTART:20201025T010000
END:STANDARD
BEGIN:DAYLIGHT
TZOFFSETFROM:+0100
TZOFFSETTO:+0200
TZNAME:CEST
DTSTART:20210328T010000
END:DAYLIGHT
BEGIN:STANDARD
TZOFFSETFROM:+0200
TZOFFSETTO:+0100
TZNAME:CET
DTSTART:20211031T010000
END:STANDARD
BEGIN:DAYLIGHT
TZOFFSETFROM:+0100
TZOFFSETTO:+0200
TZNAME:CEST
DTSTART:20220327T010000
END:DAYLIGHT
BEGIN:STANDARD
TZOFFSETFROM:+0200
TZOFFSETTO:+0100
TZNAME:CET
DTSTART:20221030T010000
END:STANDARD
BEGIN:DAYLIGHT
TZOFFSETFROM:+0100
TZOFFSETTO:+0200
TZNAME:CEST
DTSTART:20230326T010000
END:DAYLIGHT
BEGIN:STANDARD
TZOFFSETFROM:+0200
TZOFFSETTO:+0100
TZNAME:CET
DTSTART:20231029T010000
END:STANDARD
END:VTIMEZONE
BEGIN:VEVENT
DTSTART;TZID=Europe/Paris:20220210T140000
DTEND;TZID=Europe/Paris:20220210T170000
DTSTAMP:20260421T183400
CREATED:20211213T140555Z
LAST-MODIFIED:20211214T130417Z
UID:66187-1644501600-1644512400@www.petites-pousses.fr
SUMMARY:Challenge NAE - Etape 3
DESCRIPTION:Journée 3 : Journée de clôture \n\nDate : 10/02/2022 de 14h à 17h (3h)\nLieu : Aéroport Le Havre-Octeville\n\nDéroulé : Clap de fin du Challenge NAE : annonce des résultats de l’EP3\, puis des résultats finaux équipe par équipe. Enfin\, annonce du classement général et remise des prix (1 par participant) aux 3 premières équipes : simulateurs de chute libre pour les membres de l’équipe gagnante\, drones Tello pour la seconde\, chèques-cadeaux pour la 3ème. Enfin\, chacune de ces 3 équipes vainqueurs seront conviées à présenter leur meilleure réalisation au public. Pour clôturer\, un goûter accompagné d’interviews sont au programme
URL:https://www.petites-pousses.fr/evenement/challenge-nae-etape-3/
END:VEVENT
BEGIN:VEVENT
DTSTART;TZID=Europe/Paris:20220127T130000
DTEND;TZID=Europe/Paris:20220127T170000
DTSTAMP:20260421T183400
CREATED:20211213T140330Z
LAST-MODIFIED:20211214T130346Z
UID:66185-1643288400-1643302800@www.petites-pousses.fr
SUMMARY:Challenge NAE - Etape 2
DESCRIPTION:Journée 2 : Epreuve n°3 – Programmation \n\nDate : 27/01/2022 de 13 à 17h (4h)\nLieu : En distanciel (les équipes restant chez eux ou au sein de leur école)\n\nDéroulé : Dernière épreuve du Challenge NAE après la course de rapidité (EP1) et le QR Challenge (EP2)\, l’épreuve de programmation (EP3) consiste en la réalisation de programmes (sous langage Python ou Swift) destinés in fine à faire la démonstration de contrôles automatiques avancés par drone : contrôle par geste\, follow-me\, vol en essaim… Les drones (DJI Ryze Tello) utilisés pour l’épreuve sont les mêmes que ceux utilisés lors des EP1 et EP2. Lorsque qu’une équipe envoie une réalisation par vidéo\, celle-ci gagne 5 points. Elle peut en envoyer jusqu’à 3 (soit 15 points max). Enfin\, le jury attribuera une note de 0 à 5 points à chaque équipe fonction de la complexité et de la créativité des réalisations envoyées (donc 20 points au total max/équipe). L’épreuve de programmation compte pour 50% des points du Challenge NAE (25% – EP1 / 25% EP2).
URL:https://www.petites-pousses.fr/evenement/challenge-nae-etape-2/
END:VEVENT
BEGIN:VEVENT
DTSTART;TZID=Europe/Paris:20210928T090000
DTEND;TZID=Europe/Paris:20210928T121500
DTSTAMP:20260421T183400
CREATED:20210913T083423Z
LAST-MODIFIED:20210915T073702Z
UID:66112-1632819600-1632831300@www.petites-pousses.fr
SUMMARY:LES DRONES POUR LA LOGISTIQUE
DESCRIPTION:Bulletin d’inscription : Invitation les drones pour la logistique \nLe Centre d’Innovation Drones Normandie (CIDN) en collaboration avec Logistique Seine Normandie\, Le Club Logistique Le Havre\, NAE (Normandie AeroEspace)\, l’Université Le Havre Normandie\, l’ISEL\, Squadrone System\, DAE System et CIRCOÉ vous invite à participer à la prochaine Rencontre Innovation Logistique pour découvrir le drone au service de vos inventaires avec deux démonstrations indoor et outdoor 🚀\nLes experts du domaine vous présenteront leurs solutions et des cas d’usage. \nCette rencontre aura lieu le 28 Septembre de 9H à 12H15 en présentiel à l’ISEL\, 11 Quai Frissard 76600 Le Havre. \nInscription gratuite mais obligatoire \n 
URL:https://www.petites-pousses.fr/evenement/les-drones-pour-la-logistique/
LOCATION:ISEL\, 11 Quai Frissard\, Le Havre\, Seine Maritime\, 76600\, France
END:VEVENT
BEGIN:VEVENT
DTSTART;TZID=Europe/Paris:20210617T103000
DTEND;TZID=Europe/Paris:20210617T160000
DTSTAMP:20260421T183400
CREATED:20210611T123212Z
LAST-MODIFIED:20210611T123558Z
UID:65987-1623925800-1623945600@www.petites-pousses.fr
SUMMARY:Expérimentation à l'aéroport Le Havre-Octeville
DESCRIPTION:Six mois après son lancement\, le Centre d’Innovation Drones Normandie a le plaisir de vous convier aux démonstrations de vol qui se dérouleront le jeudi 17 juin de 10h30 à 16het illustreront plusieurs cas d’usage:  \nSûreté & sécurité \nLogistique \nTransport médical \nVol en essaim \n			\n				\n				\n				\n				\n				PROGRAMME \n• 10h30 : Programmedelajournéeetprésentationdesacteurs par le CIDN \n• 11h: Supervision d’une mission sécurité par drone (drone RFID)\, par DAE Systems \n• 12h: Vol de drones H2\, par ZentetThales \n• 13h30: Pré-qualificationdu transport médical par drones\, par le CIDN et SquadroneSystem \n• 14h30 : Vol expérimental d’essaim de drones\, par l’Université Le Havre Normandie et SquadroneSystem \n• 15h30-16h00: Conclusion et échanges \nInscription obligatoire sur https://forms.gle/X9J6qh5FC74Phos46 \nAvec le soutien de l’aéroport Le Havre Octeville (EDEIS)\, de la station sol intelligente et connectée EVAet de la solution de sécurisation de l’espace aérien de Air SpaceDrone.
URL:https://www.petites-pousses.fr/evenement/experimentation-a-laeroport-le-havre-octeville/
LOCATION:Aéroport Le Havre-Octeville\, D940 Rue Louis Blériot\, Le Havre\, 76620
END:VEVENT
END:VCALENDAR